BEGIN:VCALENDAR
VERSION:2.0
PRODID:-//Claremore - ECPv6.15.20//NONSGML v1.0//EN
CALSCALE:GREGORIAN
METHOD:PUBLISH
X-ORIGINAL-URL:https://claremore.com
X-WR-CALDESC:Events for Claremore
REFRESH-INTERVAL;VALUE=DURATION:PT1H
X-Robots-Tag:noindex
X-PUBLISHED-TTL:PT1H
BEGIN:VTIMEZONE
TZID:UTC
BEGIN:STANDARD
TZOFFSETFROM:+0000
TZOFFSETTO:+0000
TZNAME:UTC
DTSTART:20220101T000000
END:STANDARD
END:VTIMEZONE
BEGIN:VEVENT
DTSTART;TZID=UTC:20230330T160000
DTEND;TZID=UTC:20230330T170000
DTSTAMP:20260424T070922
CREATED:20230111T233612Z
LAST-MODIFIED:20230308T224744Z
UID:10001499-1680192000-1680195600@claremore.com
SUMMARY:No Municipal Court
DESCRIPTION:Municipal Court today is canceled. All court cases set for March 30th have been rescheduled. If you are unsure what your new court date is call the Court Clerk at 918-341-1325 ext. 141.
URL:https://claremore.com/event/municipal-court-2-2023-03-30/
LOCATION:City Hall Council Chambers\, 104 S Muskogee Ave\, Claremore\, OK\, 74017\, United States
CATEGORIES:City and Court Clerk
END:VEVENT
BEGIN:VEVENT
DTSTART;TZID=UTC:20230330T180000
DTEND;TZID=UTC:20230330T190000
DTSTAMP:20260424T070922
CREATED:20230209T224346Z
LAST-MODIFIED:20230209T224346Z
UID:10001507-1680199200-1680202800@claremore.com
SUMMARY:City Manager Information Session- Public Safety Tax Proposition
DESCRIPTION:Learn more about the One Penny Public Safety Sales Tax Proposition that will be on the Claremore Municipal ballot April 4th.
URL:https://claremore.com/event/city-manager-information-session-public-safety-tax-proposition-6/
LOCATION:Claremore Community Center\, 2301 N Sioux Ave\, Claremore\, OK\, 74017\, United States
CATEGORIES:CityWide
END:VEVENT
END:VCALENDAR