BEGIN:VCALENDAR
VERSION:2.0
PRODID:-//Claremore - ECPv6.15.20//NONSGML v1.0//EN
CALSCALE:GREGORIAN
METHOD:PUBLISH
X-ORIGINAL-URL:https://claremore.com
X-WR-CALDESC:Events for Claremore
REFRESH-INTERVAL;VALUE=DURATION:PT1H
X-Robots-Tag:noindex
X-PUBLISHED-TTL:PT1H
BEGIN:VTIMEZONE
TZID:UTC
BEGIN:STANDARD
TZOFFSETFROM:+0000
TZOFFSETTO:+0000
TZNAME:UTC
DTSTART:20220101T000000
END:STANDARD
END:VTIMEZONE
BEGIN:VEVENT
DTSTART;TZID=UTC:20230417T180000
DTEND;TZID=UTC:20230417T190000
DTSTAMP:20260424T070933
CREATED:20230317T020031Z
LAST-MODIFIED:20230510T204849Z
UID:10001393-1681754400-1681758000@claremore.com
SUMMARY:City Council Meeting
DESCRIPTION:Council meetings are held on the first and third Mondays of the month with exceptions made if holidays fall on that day. You can find the agenda for each meeting online under Agendas and Minutes.
URL:https://claremore.com/event/city-council-meeting-2-2/2023-04-17/
LOCATION:City Hall Council Chambers\, 104 S Muskogee Ave\, Claremore\, OK\, 74017\, United States
CATEGORIES:City and Court Clerk,City Council,CityWide
END:VEVENT
END:VCALENDAR