BEGIN:VCALENDAR
VERSION:2.0
PRODID:-//Claremore - ECPv6.15.20//NONSGML v1.0//EN
CALSCALE:GREGORIAN
METHOD:PUBLISH
X-WR-CALNAME:Claremore
X-ORIGINAL-URL:https://claremore.com
X-WR-CALDESC:Events for Claremore
REFRESH-INTERVAL;VALUE=DURATION:PT1H
X-Robots-Tag:noindex
X-PUBLISHED-TTL:PT1H
BEGIN:VTIMEZONE
TZID:America/Chicago
BEGIN:DAYLIGHT
TZOFFSETFROM:-0600
TZOFFSETTO:-0500
TZNAME:CDT
DTSTART:20220313T080000
END:DAYLIGHT
BEGIN:STANDARD
TZOFFSETFROM:-0500
TZOFFSETTO:-0600
TZNAME:CST
DTSTART:20221106T070000
END:STANDARD
BEGIN:DAYLIGHT
TZOFFSETFROM:-0600
TZOFFSETTO:-0500
TZNAME:CDT
DTSTART:20230312T080000
END:DAYLIGHT
BEGIN:STANDARD
TZOFFSETFROM:-0500
TZOFFSETTO:-0600
TZNAME:CST
DTSTART:20231105T070000
END:STANDARD
BEGIN:DAYLIGHT
TZOFFSETFROM:-0600
TZOFFSETTO:-0500
TZNAME:CDT
DTSTART:20240310T080000
END:DAYLIGHT
BEGIN:STANDARD
TZOFFSETFROM:-0500
TZOFFSETTO:-0600
TZNAME:CST
DTSTART:20241103T070000
END:STANDARD
END:VTIMEZONE
BEGIN:VTIMEZONE
TZID:UTC
BEGIN:STANDARD
TZOFFSETFROM:+0000
TZOFFSETTO:+0000
TZNAME:UTC
DTSTART:20220101T000000
END:STANDARD
END:VTIMEZONE
BEGIN:VEVENT
DTSTART;TZID=America/Chicago:20231207T100000
DTEND;TZID=America/Chicago:20231207T200000
DTSTAMP:20260424T070744
CREATED:20231121T040518Z
LAST-MODIFIED:20231127T005540Z
UID:10002547-1701943200-1701979200@claremore.com
SUMMARY:Shepherd Cross’ Christmas at the Farm
DESCRIPTION:This event will take place on December 7th – 9th and December 14th – 16th. Step back in time and journey with the shepherds for a peaceful reflection upon the original Christmas night\, when Christ was born. \nIndoor and Outdoor activities from 10:00 am – 8:00 pm with the Final Manger scene beginning at 7:15. Admission is free and there are many free activities for the whole family to enjoy as well as some special activities that do have a fee. \nFor more information please visit: https://shepherdscross.com/christmas-at-the-farm.html
URL:https://claremore.com/event/shepherd-cross-christmas-at-the-farm/
LOCATION:Shepherd’s Cross\, 16792 East 450 Road\, Claremore\, OK\, 74017\, United States
ATTACH;FMTTYPE=image/jpeg:https://claremore.com/wp-content/uploads/2023/11/nativity-2023-full-manger-EGoAsv.tmp_.jpg
END:VEVENT
BEGIN:VEVENT
DTSTART;TZID=America/Chicago:20231207T100000
DTEND;TZID=America/Chicago:20231207T200000
DTSTAMP:20260424T070744
CREATED:20231127T020528Z
LAST-MODIFIED:20231210T090508Z
UID:10002560-1701943200-1701979200@claremore.com
SUMMARY:Shepherd Cross’ Christmas at the Farm
DESCRIPTION:This event will take place on December 7th – 9th and December 14th – 16th. Step back in time and journey with the shepherds for a peaceful reflection upon the original Christmas night\, when Christ was born. \nIndoor and Outdoor activities from 10:00 am – 8:00 pm with the Final Manger scene beginning at 7:15. Admission is free and there are many free activities for the whole family to enjoy as well as some special activities that do have a fee. \nFor more information please visit: https://shepherdscross.com/christmas-at-the-farm.html
URL:https://claremore.com/event/shepherd-cross-christmas-at-the-farm-7/
LOCATION:Shepherd’s Cross\, 16792 East 450 Road\, Claremore\, OK\, 74017\, United States
ATTACH;FMTTYPE=image/jpeg:https://claremore.com/wp-content/uploads/2023/11/nativity-2023-full-manger-EGoAsv.tmp_.jpg
END:VEVENT
BEGIN:VEVENT
DTSTART;TZID=UTC:20231207T160000
DTEND;TZID=UTC:20231207T170000
DTSTAMP:20260424T070744
CREATED:20230111T233612Z
LAST-MODIFIED:20231030T211128Z
UID:10001493-1701964800-1701968400@claremore.com
SUMMARY:Municipal Court
DESCRIPTION:Municipal Court for the City of Claremore is held on Thursdays at 4 p.m. Your court date is listed at the bottom of your ticket. If you lost your ticket or are unsure of what your court date is\, call the Court Clerk at 918-341-1325 ext. 141.
URL:https://claremore.com/event/municipal-court-2/2023-12-07/
LOCATION:City Hall Council Chambers\, 104 S Muskogee Ave\, Claremore\, OK\, 74017\, United States
CATEGORIES:City and Court Clerk
END:VEVENT
END:VCALENDAR