BEGIN:VCALENDAR
VERSION:2.0
PRODID:-//Claremore - ECPv6.15.20//NONSGML v1.0//EN
CALSCALE:GREGORIAN
METHOD:PUBLISH
X-WR-CALNAME:Claremore
X-ORIGINAL-URL:https://claremore.com
X-WR-CALDESC:Events for Claremore
REFRESH-INTERVAL;VALUE=DURATION:PT1H
X-Robots-Tag:noindex
X-PUBLISHED-TTL:PT1H
BEGIN:VTIMEZONE
TZID:UTC
BEGIN:STANDARD
TZOFFSETFROM:+0000
TZOFFSETTO:+0000
TZNAME:UTC
DTSTART:20230101T000000
END:STANDARD
END:VTIMEZONE
BEGIN:VEVENT
DTSTART;TZID=UTC:20240118T160000
DTEND;TZID=UTC:20240118T170000
DTSTAMP:20260423T063521
CREATED:20231129T021419Z
LAST-MODIFIED:20240529T210357Z
UID:10002688-1705593600-1705597200@claremore.com
SUMMARY:Municipal Court
DESCRIPTION:If you received a ticket from a City of Claremore Police officer\, your ticket may be through the Claremore Municipal Court. Your court date is at the bottom of your ticket and will be scheduled on a Thursday at 4:00 p.m. If you lost your ticket or can’t remember your court date\, call the Court Clerk’s office at (918) 341-1325 ext. 141. \nTickets can be paid over the phone\, online at https://www.municipalonlinepayments.com/claremoreok/court/search\, or in person at City Hall.
URL:https://claremore.com/event/municipal-court-3/2024-01-18/
LOCATION:City Hall Council Chambers\, 104 S Muskogee Ave\, Claremore\, OK\, 74017\, United States
CATEGORIES:City and Court Clerk
END:VEVENT
END:VCALENDAR