BEGIN:VCALENDAR
VERSION:2.0
PRODID:-//Claremore - ECPv6.15.20//NONSGML v1.0//EN
CALSCALE:GREGORIAN
METHOD:PUBLISH
X-ORIGINAL-URL:https://claremore.com
X-WR-CALDESC:Events for Claremore
REFRESH-INTERVAL;VALUE=DURATION:PT1H
X-Robots-Tag:noindex
X-PUBLISHED-TTL:PT1H
BEGIN:VTIMEZONE
TZID:UTC
BEGIN:STANDARD
TZOFFSETFROM:+0000
TZOFFSETTO:+0000
TZNAME:UTC
DTSTART:20230101T000000
END:STANDARD
END:VTIMEZONE
BEGIN:VEVENT
DTSTART;TZID=UTC:20240220T180000
DTEND;TZID=UTC:20240220T190000
DTSTAMP:20260423T080739
CREATED:20231128T224636Z
LAST-MODIFIED:20231129T013837Z
UID:10002668-1708452000-1708455600@claremore.com
SUMMARY:City Council Meeting
DESCRIPTION:Regularly scheduled City Council meetings are held on the first and third Mondays of each month at 6:00 p.m. with the exception if a holiday falls on that date. \n*The meetings in January will be held on the 2nd and 4th Mondays due to holiday conflicts. \nYou can view the agenda for the upcoming Council meeting once it’s posted online at https://claremore.com/city-council/agendas-minutes/.
URL:https://claremore.com/event/city-council-meeting-3/2024-02-20/
LOCATION:City Hall Council Chambers\, 104 S Muskogee Ave\, Claremore\, OK\, 74017\, United States
CATEGORIES:City Council
END:VEVENT
END:VCALENDAR