BEGIN:VCALENDAR
VERSION:2.0
PRODID:-//Claremore - ECPv6.15.20//NONSGML v1.0//EN
CALSCALE:GREGORIAN
METHOD:PUBLISH
X-ORIGINAL-URL:https://claremore.com
X-WR-CALDESC:Events for Claremore
REFRESH-INTERVAL;VALUE=DURATION:PT1H
X-Robots-Tag:noindex
X-PUBLISHED-TTL:PT1H
BEGIN:VTIMEZONE
TZID:UTC
BEGIN:STANDARD
TZOFFSETFROM:+0000
TZOFFSETTO:+0000
TZNAME:UTC
DTSTART:20230101T000000
END:STANDARD
END:VTIMEZONE
BEGIN:VEVENT
DTSTART;TZID=UTC:20240521T160000
DTEND;TZID=UTC:20240521T170000
DTSTAMP:20260419T095057
CREATED:20231228T225441Z
LAST-MODIFIED:20231228T225441Z
UID:10002756-1716307200-1716310800@claremore.com
SUMMARY:Planning Commission Meeting
DESCRIPTION:The City of Claremore-Rogers County Metropolitan Planning Commission meets on the 1st and 3rd Tuesday of each month at 4:00 p.m. at City Hall unless otherwise noted due to holidays. If you have questions about items on the planning commission agendas you can contact the Planning Department at (918) 341-2066.
URL:https://claremore.com/event/planning-commission-meeting-2/2024-05-21/
LOCATION:City Hall Council Chambers\, 104 S Muskogee Ave\, Claremore\, OK\, 74017\, United States
CATEGORIES:CityWide,Community Development Services
END:VEVENT
BEGIN:VEVENT
DTSTART;TZID=UTC:20240521T180000
DTEND;TZID=UTC:20240521T193000
DTSTAMP:20260419T095057
CREATED:20240327T012807Z
LAST-MODIFIED:20250218T063947Z
UID:10003396-1716314400-1716319800@claremore.com
SUMMARY:Green Country Bee Keepers
DESCRIPTION:Learn the art of Beekeeping! Meetings are the 3rd Tuesday of each month. Experienced beekeepers and curious beginners welcome.
URL:https://claremore.com/event/green-country-bee-keepers-2/2024-05-21/
LOCATION:Will Rogers Library\, 1515 North Florence\, Claremore\, OK\, 74014\, United States
CATEGORIES:Library
END:VEVENT
END:VCALENDAR