BEGIN:VCALENDAR
VERSION:2.0
PRODID:-//Claremore - ECPv6.15.20//NONSGML v1.0//EN
CALSCALE:GREGORIAN
METHOD:PUBLISH
X-WR-CALNAME:Claremore
X-ORIGINAL-URL:https://claremore.com
X-WR-CALDESC:Events for Claremore
REFRESH-INTERVAL;VALUE=DURATION:PT1H
X-Robots-Tag:noindex
X-PUBLISHED-TTL:PT1H
BEGIN:VTIMEZONE
TZID:America/Chicago
BEGIN:DAYLIGHT
TZOFFSETFROM:-0600
TZOFFSETTO:-0500
TZNAME:CDT
DTSTART:20230312T080000
END:DAYLIGHT
BEGIN:STANDARD
TZOFFSETFROM:-0500
TZOFFSETTO:-0600
TZNAME:CST
DTSTART:20231105T070000
END:STANDARD
BEGIN:DAYLIGHT
TZOFFSETFROM:-0600
TZOFFSETTO:-0500
TZNAME:CDT
DTSTART:20240310T080000
END:DAYLIGHT
BEGIN:STANDARD
TZOFFSETFROM:-0500
TZOFFSETTO:-0600
TZNAME:CST
DTSTART:20241103T070000
END:STANDARD
BEGIN:DAYLIGHT
TZOFFSETFROM:-0600
TZOFFSETTO:-0500
TZNAME:CDT
DTSTART:20250309T080000
END:DAYLIGHT
BEGIN:STANDARD
TZOFFSETFROM:-0500
TZOFFSETTO:-0600
TZNAME:CST
DTSTART:20251102T070000
END:STANDARD
END:VTIMEZONE
BEGIN:VEVENT
DTSTART;TZID=America/Chicago:20241027T080000
DTEND;TZID=America/Chicago:20241027T170000
DTSTAMP:20260423T050912
CREATED:20240927T050620Z
LAST-MODIFIED:20241028T035356Z
UID:10003592-1730016000-1730048400@claremore.com
SUMMARY:Hunter Jumper FallFest Schooling Show
DESCRIPTION:Join us October 26th and 27th for the 2024 Fall Fest Hunter Jumper Horse Show \n Stewart Equine Enterprises is bringing The Oklahoma Hunter Jumper Association “O” Rated Show to the Claremore Expo! \n  \nThere will be something for everyone who loves horses. Watch as they compete on ability\, skill\, and form. The horse and rider will exhibit with grace and style as they work through courses with obstacles. Riders of varying skill levels will be competing. \nFor more information\, please contact Beth Zollicoffer at Bzollico@yahoo.com.
URL:https://claremore.com/event/hunter-jumper-fallfest-schooling-show-2/
LOCATION:Claremore Expo\, 400 Veterans Pkwy\, Claremore\, 74017\, United States
CATEGORIES:Expo,Family Fun
ATTACH;FMTTYPE=image/png:https://claremore.com/wp-content/uploads/2024/09/FallFest2024-WHcvFP.tmp_.png
END:VEVENT
BEGIN:VEVENT
DTSTART;TZID=America/Chicago:20241027T140000
DTEND;TZID=America/Chicago:20241027T160000
DTSTAMP:20260423T050912
CREATED:20241021T152211Z
LAST-MODIFIED:20241028T035356Z
UID:10003609-1730037600-1730044800@claremore.com
SUMMARY:Fall Festival @ Claremore First Methodist Church
DESCRIPTION:Come join us for our Fall Festival and Trunk-or-Treat event! There will be free carnival games\, lots of candy\, and free concessions. It is a fun time for the whole family! The carnival games will be from 2PM – 3:30PM and the Trunk-or-Treat will be from 2:30PM-4PM. If you want to volunteer\, click on the volunteer registration link. We hope to see you there in your Halloween best!
URL:https://claremore.com/event/fall-festival-claremore-first-methodist-church/
LOCATION:First United Methodist Church\, 1615 N. Hwy 88\, Claremore\, OK\, 74017\, United States
ATTACH;FMTTYPE=image/jpeg:https://claremore.com/wp-content/uploads/2024/10/Fall-Festival-Methodist-Mhet3E.tmp_.jpg
END:VEVENT
END:VCALENDAR