BEGIN:VCALENDAR
VERSION:2.0
PRODID:-//Claremore - ECPv6.15.20//NONSGML v1.0//EN
CALSCALE:GREGORIAN
METHOD:PUBLISH
X-WR-CALNAME:Claremore
X-ORIGINAL-URL:https://claremore.com
X-WR-CALDESC:Events for Claremore
REFRESH-INTERVAL;VALUE=DURATION:PT1H
X-Robots-Tag:noindex
X-PUBLISHED-TTL:PT1H
BEGIN:VTIMEZONE
TZID:America/Chicago
BEGIN:DAYLIGHT
TZOFFSETFROM:-0600
TZOFFSETTO:-0500
TZNAME:CDT
DTSTART:20240310T080000
END:DAYLIGHT
BEGIN:STANDARD
TZOFFSETFROM:-0500
TZOFFSETTO:-0600
TZNAME:CST
DTSTART:20241103T070000
END:STANDARD
BEGIN:DAYLIGHT
TZOFFSETFROM:-0600
TZOFFSETTO:-0500
TZNAME:CDT
DTSTART:20250309T080000
END:DAYLIGHT
BEGIN:STANDARD
TZOFFSETFROM:-0500
TZOFFSETTO:-0600
TZNAME:CST
DTSTART:20251102T070000
END:STANDARD
BEGIN:DAYLIGHT
TZOFFSETFROM:-0600
TZOFFSETTO:-0500
TZNAME:CDT
DTSTART:20260308T080000
END:DAYLIGHT
BEGIN:STANDARD
TZOFFSETFROM:-0500
TZOFFSETTO:-0600
TZNAME:CST
DTSTART:20261101T070000
END:STANDARD
END:VTIMEZONE
BEGIN:VEVENT
DTSTART;TZID=America/Chicago:20250208T110000
DTEND;TZID=America/Chicago:20250208T140000
DTSTAMP:20260419T113905
CREATED:20250109T063532Z
LAST-MODIFIED:20250209T052345Z
UID:10003864-1739012400-1739023200@claremore.com
SUMMARY:Souper Saturday in Downtown Claremore
DESCRIPTION:Souper Saturday is an annual event held in downtown Claremore.  This year’s event is presented by Rhapsody and The Lilac District.  Tasting Kits are $15 this year.  The Tasting kit includes commemorative mug\, menu and Tasting wristband.  Grab your friends and family and head out to Claremore for this yummy and exciting event in our historic downtown.  Don’t miss your opportunity to enjoy some delicious soup while browsing our local shops. \nTasting Kit tickets are available at the Claremore Main Street Office located at 412 W. Will Rogers Blvd. Claremore\, OK 74017.  Tickets are also available at Rhapsody Boutique and Spa located at 318 W. Will Roger Blvd. Claremore\, OK 74017 \nFor more information on Souper Saturday or other events downtown\, please visit https://www.facebook.com/LilacDistrictOK \nWhile you are in town for this downtown event\, be sure to check out what else Claremore has to offer!  Visit our Explore Page at https://visitclaremore.com/explore/ for other fun places to see!
URL:https://claremore.com/event/souper-saturday-in-downtown-claremore-2/
LOCATION:Downtown Claremore\, 422 W Will Rogers Blvd\, Claremore\, OK\, 74017\, United States
ATTACH;FMTTYPE=image/jpeg:https://claremore.com/wp-content/uploads/2024/01/Souper-Saturday-rQnU2B.tmp_.jpg
END:VEVENT
END:VCALENDAR