BEGIN:VCALENDAR
VERSION:2.0
PRODID:-//Claremore - ECPv6.15.20//NONSGML v1.0//EN
CALSCALE:GREGORIAN
METHOD:PUBLISH
X-ORIGINAL-URL:https://claremore.com
X-WR-CALDESC:Events for Claremore
REFRESH-INTERVAL;VALUE=DURATION:PT1H
X-Robots-Tag:noindex
X-PUBLISHED-TTL:PT1H
BEGIN:VTIMEZONE
TZID:America/Chicago
BEGIN:DAYLIGHT
TZOFFSETFROM:-0600
TZOFFSETTO:-0500
TZNAME:CDT
DTSTART:20250309T080000
END:DAYLIGHT
BEGIN:STANDARD
TZOFFSETFROM:-0500
TZOFFSETTO:-0600
TZNAME:CST
DTSTART:20251102T070000
END:STANDARD
BEGIN:DAYLIGHT
TZOFFSETFROM:-0600
TZOFFSETTO:-0500
TZNAME:CDT
DTSTART:20260308T080000
END:DAYLIGHT
BEGIN:STANDARD
TZOFFSETFROM:-0500
TZOFFSETTO:-0600
TZNAME:CST
DTSTART:20261101T070000
END:STANDARD
BEGIN:DAYLIGHT
TZOFFSETFROM:-0600
TZOFFSETTO:-0500
TZNAME:CDT
DTSTART:20270314T080000
END:DAYLIGHT
BEGIN:STANDARD
TZOFFSETFROM:-0500
TZOFFSETTO:-0600
TZNAME:CST
DTSTART:20271107T070000
END:STANDARD
END:VTIMEZONE
BEGIN:VEVENT
DTSTART;TZID=America/Chicago:20260410T153000
DTEND;TZID=America/Chicago:20260410T163000
DTSTAMP:20260425T072450
CREATED:20260207T003612Z
LAST-MODIFIED:20260330T152959Z
UID:10007601-1775835000-1775838600@claremore.com
SUMMARY:Teen Writing Group
DESCRIPTION:Join other teen writers the second Friday of each month to share ideas and learn techniques to improve your writing! \n\n\n\n\nFebruary 13th – Creating and Resolving Character Conflict \nMarch 13th – No Session \nApril 10th – Poetry and Point of View
URL:https://claremore.com/event/teen-writing-group-2-2/2026-04-10/
LOCATION:Will Rogers Library\, 1515 North Florence Ave\, Claremore\, OK\, 74017
CATEGORIES:Library
ORGANIZER;CN="Will Rogers Library":MAILTO:wrlibrary@claremorecity.com
END:VEVENT
BEGIN:VEVENT
DTSTART;TZID=America/Chicago:20260410T160000
DTEND;TZID=America/Chicago:20260410T210000
DTSTAMP:20260425T072450
CREATED:20260311T053533Z
LAST-MODIFIED:20260410T235010Z
UID:10005810-1775836800-1775854800@claremore.com
SUMMARY:Green Country Hamfest
DESCRIPTION:Join us April 10th & 11th at the Claremore Expo Center for the largest ham radio festival in Oklahoma. Held in the 32\,000 square foot climate-controlled facility\, The Green Country Hamfest in Claremore will showcase the latest technology in radio operations. This trade show offers visitors on-site FCC amateur radio license exams. There will be a large selection of vendors. Browse through commercial booths filled with the latest radios and accessories.  Attendees can also enjoy a swap meet and flea market for ham radio equipment with the option to test it before you buy it. Guests can attend a variety of forums as well as a chance to learn something new on Saturday. There is also opportunities to meet ARRL Division and Section Representatives.  Every hour there will be drawings for some great door prizes.  Ample free parking is available with a free shuttle service as well as low-cost on-site RV parking. \nAdvanced tickets are $8.00.  To purchase tickets or vendor information please visit: http://www.greencountryhamfest.org/index.php \nTickets will also be available at the door for $10.00 \nFriday open to public 4PM to 9PM \nSaturday open to public 8AM to 3PM \n\n\n\n  \n \nGreen Country Hamfest is A 501(c)3 non-profit corporation\nAn ARRL affiliated organization\nSanctioned as the ARRL State Convention
URL:https://claremore.com/event/green-country-hamfest-7/
LOCATION:Claremore Expo\, 400 Veterans Pkwy\, Claremore\, 74017\, United States
END:VEVENT
END:VCALENDAR