BEGIN:VCALENDAR
VERSION:2.0
PRODID:-//Claremore - ECPv6.15.20//NONSGML v1.0//EN
CALSCALE:GREGORIAN
METHOD:PUBLISH
X-ORIGINAL-URL:https://claremore.com
X-WR-CALDESC:Events for Claremore
REFRESH-INTERVAL;VALUE=DURATION:PT1H
X-Robots-Tag:noindex
X-PUBLISHED-TTL:PT1H
BEGIN:VTIMEZONE
TZID:UTC
BEGIN:STANDARD
TZOFFSETFROM:+0000
TZOFFSETTO:+0000
TZNAME:UTC
DTSTART:20250101T000000
END:STANDARD
END:VTIMEZONE
BEGIN:VEVENT
DTSTART;TZID=UTC:20260421T160000
DTEND;TZID=UTC:20260421T170000
DTSTAMP:20260425T072507
CREATED:20251030T192956Z
LAST-MODIFIED:20251030T192956Z
UID:10005356-1776787200-1776790800@claremore.com
SUMMARY:Planning Commission Meeting
DESCRIPTION:Planning Commission meetings are held on the 1st and 3rd Tuesday of each month with the exception of those with a holiday. Agendas are posted and available to view online at least 24 hours before each meeting. Questions about planning commission or their agendas can be directed to (918) 341-2066.
URL:https://claremore.com/event/planning-commission-meeting-4/2026-04-21/
LOCATION:City Hall Council Chambers\, 104 S Muskogee Ave\, Claremore\, OK\, 74017\, United States
CATEGORIES:Planning Commission
END:VEVENT
BEGIN:VEVENT
DTSTART;TZID=UTC:20260421T180000
DTEND;TZID=UTC:20260421T193000
DTSTAMP:20260425T072507
CREATED:20240327T012807Z
LAST-MODIFIED:20250218T063947Z
UID:10003419-1776794400-1776799800@claremore.com
SUMMARY:Green Country Bee Keepers
DESCRIPTION:Learn the art of Beekeeping! Meetings are the 3rd Tuesday of each month. Experienced beekeepers and curious beginners welcome.
URL:https://claremore.com/event/green-country-bee-keepers-2/2026-04-21/
LOCATION:Will Rogers Library\, 1515 North Florence Ave\, Claremore\, OK\, 74017
CATEGORIES:Library
END:VEVENT
END:VCALENDAR