BEGIN:VCALENDAR
VERSION:2.0
PRODID:-//Claremore - ECPv6.15.20//NONSGML v1.0//EN
CALSCALE:GREGORIAN
METHOD:PUBLISH
X-WR-CALNAME:Claremore
X-ORIGINAL-URL:https://claremore.com
X-WR-CALDESC:Events for Claremore
REFRESH-INTERVAL;VALUE=DURATION:PT1H
X-Robots-Tag:noindex
X-PUBLISHED-TTL:PT1H
BEGIN:VTIMEZONE
TZID:America/Chicago
BEGIN:DAYLIGHT
TZOFFSETFROM:-0600
TZOFFSETTO:-0500
TZNAME:CDT
DTSTART:20250309T080000
END:DAYLIGHT
BEGIN:STANDARD
TZOFFSETFROM:-0500
TZOFFSETTO:-0600
TZNAME:CST
DTSTART:20251102T070000
END:STANDARD
BEGIN:DAYLIGHT
TZOFFSETFROM:-0600
TZOFFSETTO:-0500
TZNAME:CDT
DTSTART:20260308T080000
END:DAYLIGHT
BEGIN:STANDARD
TZOFFSETFROM:-0500
TZOFFSETTO:-0600
TZNAME:CST
DTSTART:20261101T070000
END:STANDARD
BEGIN:DAYLIGHT
TZOFFSETFROM:-0600
TZOFFSETTO:-0500
TZNAME:CDT
DTSTART:20270314T080000
END:DAYLIGHT
BEGIN:STANDARD
TZOFFSETFROM:-0500
TZOFFSETTO:-0600
TZNAME:CST
DTSTART:20271107T070000
END:STANDARD
END:VTIMEZONE
BEGIN:VTIMEZONE
TZID:UTC
BEGIN:STANDARD
TZOFFSETFROM:+0000
TZOFFSETTO:+0000
TZNAME:UTC
DTSTART:20250101T000000
END:STANDARD
END:VTIMEZONE
BEGIN:VTIMEZONE
TZID:UTC
BEGIN:STANDARD
TZOFFSETFROM:+0000
TZOFFSETTO:+0000
TZNAME:UTC
DTSTART:20250101T000000
END:STANDARD
END:VTIMEZONE
BEGIN:VEVENT
DTSTART;TZID=America/Chicago:20260325T100000
DTEND;TZID=America/Chicago:20260325T103000
DTSTAMP:20260419T130002
CREATED:20250822T225110Z
LAST-MODIFIED:20260325T181502Z
UID:10006922-1774432800-1774434600@claremore.com
SUMMARY:Lapsit Storytime @ the Library for ages 0-3
DESCRIPTION:Lapsit Storytime for ages 0-3. Join Miss Nikki at the Library every Wednesday for stories\, wordplay\, and fun!
URL:https://claremore.com/event/lapsit-storytime-the-library-for-ages-0-3/2026-03-25/
LOCATION:Will Rogers Library\, 1515 North Florence\, Claremore\, OK\, 74014\, United States
CATEGORIES:Library
ORGANIZER;CN="Will Rogers Library":MAILTO:wrlibrary@claremorecity.com
END:VEVENT
BEGIN:VEVENT
DTSTART;TZID=America/Chicago:20260323T180000
DTEND;TZID=America/Chicago:20260323T193000
DTSTAMP:20260419T130002
CREATED:20250822T224431Z
LAST-MODIFIED:20260320T212346Z
UID:10004222-1774288800-1774294200@claremore.com
SUMMARY:Book Club @ the Library
DESCRIPTION:Adult Book Club will be talking about  A Daughter of Fair Verona by Christina Dodd. Join us for discussion!
URL:https://claremore.com/event/book-club-the-library-4/
LOCATION:Will Rogers Library\, 1515 North Florence\, Claremore\, OK\, 74014\, United States
CATEGORIES:Library
ORGANIZER;CN="Will Rogers Library":MAILTO:wrlibrary@claremorecity.com
END:VEVENT
BEGIN:VEVENT
DTSTART;TZID=America/Chicago:20260323T163000
DTEND;TZID=America/Chicago:20260323T190000
DTSTAMP:20260419T130002
CREATED:20241023T021225Z
LAST-MODIFIED:20260323T163816Z
UID:10006855-1774283400-1774292400@claremore.com
SUMMARY:Genealogy @ the Library
DESCRIPTION:Our Genealogy Volunteers are available every Monday night to help you with your family tree research! Learn more about the free library resources available to you with the help of our friendly volunteers. Whether you’re a beginner\, or looking for some additional tips to help break through those brick walls\, bring your questions Monday nights for assistance.  *Please note library volunteers can not do personal family tree research for patrons.
URL:https://claremore.com/event/genealogy-2-2/2026-03-23/
LOCATION:Will Rogers Library\, 1515 North Florence\, Claremore\, OK\, 74014\, United States
CATEGORIES:Library
ORGANIZER;CN="Will Rogers Library":MAILTO:wrlibrary@claremorecity.com
END:VEVENT
BEGIN:VEVENT
DTSTART;TZID=America/Chicago:20260321T190000
DTEND;TZID=America/Chicago:20260321T210000
DTSTAMP:20260419T130002
CREATED:20260225T013523Z
LAST-MODIFIED:20260320T192011Z
UID:10005677-1774119600-1774126800@claremore.com
SUMMARY:Around the Hollywood Campfire
DESCRIPTION:On Saturday\, March 21\, at 7 p.m.\, the Will Rogers Memorial Museum will host ”Around the Hollywood Campfire\,” a live musical show featuring music from Western films and television.\nThe show features selections from Gene Autry\, The Sons of the Pioneers\, Cole Porter\, Johnny Mercer\, and more. It’s a tribute to the unforgettable soundtracks of TV Westerns from the ‘50s through the ‘70s. The performance showcases cabaret star Janet Rutland and author-broadcaster John Wooley. They are accompanied by Scott McQuade on piano and Shelby Eicher\, a renowned fiddler and mandolinist.\nJoin us for a night of nostalgia and good music. Tickets are $20\, with a special $10 pricing for Museum Members.
URL:https://claremore.com/event/around-the-hollywood-campfire-2/
LOCATION:Will Rogers Memorial Museum\, 1720 West Will Rogers Boulevard\, Claremore\, OK\, 74017\, United States
ATTACH;FMTTYPE=image/jpeg:https://claremore.com/wp-content/uploads/2026/02/hollywood-0wSiMM.jpe
END:VEVENT
BEGIN:VEVENT
DTSTART;TZID=America/Chicago:20260321T153000
DTEND;TZID=America/Chicago:20260321T163000
DTSTAMP:20260419T130002
CREATED:20260224T230812Z
LAST-MODIFIED:20260320T211308Z
UID:10005673-1774107000-1774110600@claremore.com
SUMMARY:ERAS Spring Break Crafternoon: 1980's Woven Friendship Bracelets!
DESCRIPTION:We’ll visit the decades with some retro crafts! Come to one or all. All ages welcome! \nThursday\, March 19th – 1960s!  Paint your own Pop Art in the Warhol style! \nFriday\, March 20th  –  1970s!  Decorate your own wooden Peace Sign! \nSaturday\, March 21st – 1980’s!  Make your own woven Friendship Bracelet! \nAll programs are from 3:30 pm – 4:30 pm. Sign up to reserve your spot!
URL:https://claremore.com/event/eras-spring-break-crafternoon-1970s-peace-signs/
LOCATION:Will Rogers Library\, 1515 North Florence\, Claremore\, OK\, 74014\, United States
CATEGORIES:Family Fun,Library
ORGANIZER;CN="Will Rogers Library":MAILTO:wrlibrary@claremorecity.com
END:VEVENT
BEGIN:VEVENT
DTSTART;TZID=America/Chicago:20260321T130000
DTEND;TZID=America/Chicago:20260321T153000
DTSTAMP:20260419T130002
CREATED:20260306T020517Z
LAST-MODIFIED:20260320T192011Z
UID:10005809-1774098000-1774107000@claremore.com
SUMMARY:Hospital Auxiliary Bunco Party
DESCRIPTION:Saturday\, March 21\, 2026 \nClaremore Community Center \n2301 N Souix Ave. \n1:00 – 3:30PM (Doors open at Noon) \nDoor Prizes and 50/50 Pot! Raffle Items selected from our beautiful gift shop \nRefreshments – Fun -Excitement \nBRING YOUR FRIENDS! \n$20 per player with reservation. \n  \nCall or text Sandy for reservations: 918-693-3200 \n  \nAll proceeds benefit Claremore Auxiliary Special Projects.
URL:https://claremore.com/event/hospital-auxiliary-bunco-party/
LOCATION:Claremore Community Center\, 2301 N Sioux Ave\, Claremore\, OK\, 74017\, United States
END:VEVENT
BEGIN:VEVENT
DTSTART;TZID=America/Chicago:20260321T100000
DTEND;TZID=America/Chicago:20260321T110000
DTSTAMP:20260419T130002
CREATED:20260226T035210Z
LAST-MODIFIED:20260320T210921Z
UID:10003906-1774087200-1774090800@claremore.com
SUMMARY:Gardening 101: Starting a Garden!
DESCRIPTION:Vegetable gardens are easy\, fun\, and affordable alternatives to high grocery prices. Kick off the growing season with useful tips and tricks for beginning and experienced gardeners with OSU Extension Educator Holly Dobbs.
URL:https://claremore.com/event/gardening-101-starting-a-garden/
LOCATION:Will Rogers Library\, 1515 North Florence\, Claremore\, OK\, 74014\, United States
CATEGORIES:Library
ORGANIZER;CN="Will Rogers Library":MAILTO:wrlibrary@claremorecity.com
END:VEVENT
BEGIN:VEVENT
DTSTART;TZID=America/Chicago:20260321T090000
DTEND;TZID=America/Chicago:20260321T110000
DTSTAMP:20260419T130002
CREATED:20260305T000521Z
LAST-MODIFIED:20260320T192011Z
UID:10005806-1774083600-1774090800@claremore.com
SUMMARY:American Veterans Tours Car\, Truck and Bike Show
DESCRIPTION:*Rescheduled date* \nSaturday\, March 21\, 2026 \nRegistration Time:  9:00 AM to 11:00 AM\, \nAdvanced Registration: $20. (Cash App) \nDay of Registration:  $25. \n  \nAWARDS:   \n\nAmerican Veterans BEST IN SHOW\nCherokee Casino Will Rogers Downs BEST IN SHOW\nTop 20 Cars\nTop 10 Bikes\n\n  \nVendor Spaces Available \n  \nFor more information contact:   \nLarry Young\, 918-530-6789 \nTroy Cruikshank 918-407-3271 \nDustin Lamarre:  918-525-7883
URL:https://claremore.com/event/american-veterans-tours-car-truck-and-bike-show/
LOCATION:Will Rogers Downs\, 20900 S. 4200 Rd.\, Claremore\, OK\, 74019\, United States
END:VEVENT
BEGIN:VEVENT
DTSTART;TZID=America/Chicago:20260321T080000
DTEND;TZID=America/Chicago:20260321T170000
DTSTAMP:20260419T130002
CREATED:20260219T062025Z
LAST-MODIFIED:20260320T192011Z
UID:10005668-1774080000-1774112400@claremore.com
SUMMARY:Claremore Coin Club Show
DESCRIPTION:
URL:https://claremore.com/event/claremore-coin-club-show-2/
LOCATION:Claremore American Legion\, 2141 North Hwy 88\, Claremore\, OK\, 74017\, United States
ATTACH;FMTTYPE=image/png:https://claremore.com/wp-content/uploads/2026/02/coin-show-JreEhm.png
END:VEVENT
BEGIN:VEVENT
DTSTART;TZID=America/Chicago:20260320T153000
DTEND;TZID=America/Chicago:20260320T163000
DTSTAMP:20260419T130002
CREATED:20260224T231557Z
LAST-MODIFIED:20260320T233239Z
UID:10005676-1774020600-1774024200@claremore.com
SUMMARY:ERAS Spring Break Crafternoon: 1970's Peace Signs!
DESCRIPTION:We’ll visit the decades with some retro crafts! Come to one or all. All ages welcome! \nThursday\, March 19th – 1960s!  Paint your own Pop Art in the Warhol style! \nFriday\, March 20th  –  1970s!  Decorate your own wooden Peace Sign! \nSaturday\, March 21st – 1980’s!  Make your own woven Friendship Bracelet! \nAll programs are from 3:30 pm – 4:30 pm. Sign up to reserve your spot!
URL:https://claremore.com/event/eras-spring-break-crafternoon-1970s-peace-signs-2/
LOCATION:Will Rogers Library\, 1515 North Florence\, Claremore\, OK\, 74014\, United States
CATEGORIES:Family Fun,Library
ORGANIZER;CN="Will Rogers Library":MAILTO:wrlibrary@claremorecity.com
END:VEVENT
BEGIN:VEVENT
DTSTART;TZID=America/Chicago:20260320T153000
DTEND;TZID=America/Chicago:20260320T163000
DTSTAMP:20260419T130002
CREATED:20260207T004135Z
LAST-MODIFIED:20260320T191928Z
UID:10006044-1774020600-1774024200@claremore.com
SUMMARY:YOUR Teen Book Club
DESCRIPTION:Let’s talk about the books YOU’RE reading! Meets the 3rd Friday of each month. \nFebruary 20th – Share a book you love! \nMarch 20th – Share a book that needs a sequel. \nApril 17th – Share a book that fooled you until the end. \n\n\n\n  \n\n\n\n\n\n 
URL:https://claremore.com/event/your-teen-book-club-2/2026-03-20/
LOCATION:Will Rogers Library\, 1515 North Florence\, Claremore\, OK\, 74014\, United States
CATEGORIES:Library
END:VEVENT
BEGIN:VEVENT
DTSTART;TZID=America/Chicago:20260320T130000
DTEND;TZID=America/Chicago:20260320T150000
DTSTAMP:20260419T130002
CREATED:20260218T062105Z
LAST-MODIFIED:20260320T192011Z
UID:10005667-1774011600-1774018800@claremore.com
SUMMARY:Spring Break at the Will Rogers Memorial Museum
DESCRIPTION:Every year during Spring Break\, the team at the Will Rogers Memorial Museum plans a week of activities for the kids to learn about Will Rogers\, Oklahoma history and have tons of fun! \nAll children under 17 are admitted FREE during Spring Break. Registration for the activities is not needed\, just come join the fun! There is even a talent show; registration is online. \nFor a complete schedule of events please visit: Spring Break | Will Rogers
URL:https://claremore.com/event/spring-break-at-the-will-rogers-memorial-museum-6/
LOCATION:Will Rogers Memorial Museum\, 1720 West Will Rogers Boulevard\, Claremore\, OK\, 74017\, United States
ATTACH;FMTTYPE=image/avif:https://claremore.com/wp-content/uploads/2026/02/spring-break-Yh6XMR.avif
ORGANIZER;CN="Will Rogers Museum":MAILTO:wrinfo@willrogers.com
END:VEVENT
BEGIN:VEVENT
DTSTART;TZID=UTC:20260320T103000
DTEND;TZID=UTC:20260320T110000
DTSTAMP:20260419T130002
CREATED:20250822T230634Z
LAST-MODIFIED:20260320T233020Z
UID:10005578-1774002600-1774004400@claremore.com
SUMMARY:Nursery Rhyme Dance Time!
DESCRIPTION:Parents and children dance and play to traditional nursery rhymes! For caregivers and their children ages 5 and under. Join us every 3rd Friday!
URL:https://claremore.com/event/nursery-rhyme-dance-time/2026-03-20/
LOCATION:Will Rogers Library\, 1515 North Florence\, Claremore\, OK\, 74014\, United States
CATEGORIES:Library
ORGANIZER;CN="Will Rogers Library":MAILTO:wrlibrary@claremorecity.com
END:VEVENT
BEGIN:VEVENT
DTSTART;TZID=America/Chicago:20260320T100000
DTEND;TZID=America/Chicago:20260320T140000
DTSTAMP:20260419T130002
CREATED:20260218T062057Z
LAST-MODIFIED:20260320T192010Z
UID:10005666-1774000800-1774015200@claremore.com
SUMMARY:ShamRockin’ Family Fun Day
DESCRIPTION:Friday\, March 20 | 10 a.m. – 2 p.m.Claremore Community Center2301 N Sioux Ave\, Claremore\, OK\nThe Rogers County Health Department is excited to announce its fifth annual ShamROCKIN’ Family Fun Day on Friday\, March 20\, from 10 a.m. to 2 p.m. at the Claremore Community Center\, 2301 N Sioux.\nThis free event will feature family-friendly activities\, educational opportunities\, and giveaways.\nParticipants will have the chance to:• Learn about Rogers County Health Department programs\, services and community wellness initiatives.• Explore booths from local organizations.• Participate in games\, crafts\, and entertainment for all ages.• Win exciting prizes during the event
URL:https://claremore.com/event/shamrockin-family-fun-day-4/
LOCATION:Claremore Community Center\, 2301 N Sioux Ave\, Claremore\, OK\, 74017\, United States
ATTACH;FMTTYPE=image/jpeg:https://claremore.com/wp-content/uploads/2026/02/shamrockin-NJkqFl.jpe
END:VEVENT
BEGIN:VEVENT
DTSTART;TZID=America/Chicago:20260320T090000
DTEND;TZID=America/Chicago:20260320T170000
DTSTAMP:20260419T130002
CREATED:20260218T062041Z
LAST-MODIFIED:20260320T192010Z
UID:10005665-1773997200-1774026000@claremore.com
SUMMARY:Claremore Coin Club Show
DESCRIPTION:
URL:https://claremore.com/event/claremore-coin-club-show/
LOCATION:Claremore American Legion\, 2141 North Hwy 88\, Claremore\, OK\, 74017\, United States
ATTACH;FMTTYPE=image/png:https://claremore.com/wp-content/uploads/2026/02/coin-show-JreEhm.png
END:VEVENT
BEGIN:VEVENT
DTSTART;TZID=America/Chicago:20260319T160000
DTEND;TZID=America/Chicago:20260319T190000
DTSTAMP:20260419T130002
CREATED:20260217T063526Z
LAST-MODIFIED:20260320T042151Z
UID:10005664-1773936000-1773946800@claremore.com
SUMMARY:Claremore Aviation Pop-Up Exhibit Collection
DESCRIPTION:Mark your calendars now to stop by the MoH and enjoy our drinks and appetizers as you experience photos\, documents\, artifacts and other memorabilia from both Claremore’s original Will Rogers Airport\, as well as Claremore’s Regional Airport.
URL:https://claremore.com/event/claremore-aviation-pop-up-exhibit-collection/
LOCATION:Claremore Museum of History\, 121 N Weenonah Ave\, Claremore\, OK\, 74017\, United States
END:VEVENT
BEGIN:VEVENT
DTSTART;TZID=UTC:20260319T153000
DTEND;TZID=UTC:20260319T163000
DTSTAMP:20260419T130002
CREATED:20260224T230604Z
LAST-MODIFIED:20260224T231125Z
UID:10005672-1773934200-1773937800@claremore.com
SUMMARY:ERAS Spring Break Crafternoon: 1960's Pop Art!
DESCRIPTION:We’ll visit the decades with some retro crafts! Come to one or all. All ages welcome! \nThursday\, March 19th – 1960s!  Paint your own Pop Art in the Warhol style! \nFriday\, March 20th  –  1970s!  Decorate your own wooden Peace Sign! \nSaturday\, March 21st – 1980’s!  Make your own woven Friendship Bracelet! \nAll programs are from 3:30 pm – 4:30 pm. Sign up to reserve your spot!
URL:https://claremore.com/event/eras-spring-break-crafternoons-1960s-pop-art/
LOCATION:Will Rogers Library\, 1515 North Florence\, Claremore\, OK\, 74014\, United States
CATEGORIES:Family Fun,Library
ORGANIZER;CN="Will Rogers Library":MAILTO:wrlibrary@claremorecity.com
END:VEVENT
BEGIN:VEVENT
DTSTART;TZID=America/Chicago:20260319T130000
DTEND;TZID=America/Chicago:20260319T150000
DTSTAMP:20260419T130002
CREATED:20260217T063526Z
LAST-MODIFIED:20260320T042151Z
UID:10005663-1773925200-1773932400@claremore.com
SUMMARY:Spring Break at the Will Rogers Memorial Museum
DESCRIPTION:Every year during Spring Break\, the team at the Will Rogers Memorial Museum plans a week of activities for the kids to learn about Will Rogers\, Oklahoma history and have tons of fun! \nAll children under 17 are admitted FREE during Spring Break. Registration for the activities is not needed\, just come join the fun! There is even a talent show; registration is online. \nFor a complete schedule of events please visit: Spring Break | Will Rogers
URL:https://claremore.com/event/spring-break-at-the-will-rogers-memorial-museum-5/
LOCATION:Will Rogers Memorial Museum\, 1720 West Will Rogers Boulevard\, Claremore\, OK\, 74017\, United States
ATTACH;FMTTYPE=image/avif:https://claremore.com/wp-content/uploads/2026/02/spring-break-Yh6XMR.avif
ORGANIZER;CN="Will Rogers Museum":MAILTO:wrinfo@willrogers.com
END:VEVENT
BEGIN:VEVENT
DTSTART;TZID=America/Chicago:20260318T130000
DTEND;TZID=America/Chicago:20260318T150000
DTSTAMP:20260419T130002
CREATED:20260216T063524Z
LAST-MODIFIED:20260319T045408Z
UID:10005662-1773838800-1773846000@claremore.com
SUMMARY:Spring Break at the Will Rogers Memorial Museum
DESCRIPTION:Every year during Spring Break\, the team at the Will Rogers Memorial Museum plans a week of activities for the kids to learn about Will Rogers\, Oklahoma history and have tons of fun! \nAll children under 17 are admitted FREE during Spring Break. Registration for the activities is not needed\, just come join the fun! There is even a talent show; registration is online. \nFor a complete schedule of events please visit: Spring Break | Will Rogers
URL:https://claremore.com/event/spring-break-at-the-will-rogers-memorial-museum-4/
LOCATION:Will Rogers Memorial Museum\, 1720 West Will Rogers Boulevard\, Claremore\, OK\, 74017\, United States
ATTACH;FMTTYPE=image/avif:https://claremore.com/wp-content/uploads/2026/02/spring-break-Yh6XMR.avif
ORGANIZER;CN="Will Rogers Museum":MAILTO:wrinfo@willrogers.com
END:VEVENT
BEGIN:VEVENT
DTSTART;TZID=UTC:20260318T113000
DTEND;TZID=UTC:20260318T123000
DTSTAMP:20260419T130002
CREATED:20250826T230420Z
LAST-MODIFIED:20251119T032048Z
UID:10004995-1773833400-1773837000@claremore.com
SUMMARY:Family Coloring Club @ the Library
DESCRIPTION:Bring your own coloring book or use on of ours for a monthly meet up! All ages welcome! Children must be accompanied by a parent/guardian. \n1st & 3rd Wednesdays of each month from 11:30 am – 12:30(-ish) in the Library Meeting Room.
URL:https://claremore.com/event/family-coloring-club-the-library-2/2026-03-18/
CATEGORIES:Family Fun,Library
ORGANIZER;CN="Will Rogers Library":MAILTO:wrlibrary@claremorecity.com
END:VEVENT
BEGIN:VEVENT
DTSTART;TZID=America/Chicago:20260318T110000
DTEND;TZID=America/Chicago:20260318T113000
DTSTAMP:20260419T130002
CREATED:20250822T225733Z
LAST-MODIFIED:20260325T181549Z
UID:10007208-1773831600-1773833400@claremore.com
SUMMARY:Storytime @ the Library for ages 3-5
DESCRIPTION:Parents and little ones ages 3-5. Join Nikki every Wednesday for stories\, learning and fun!
URL:https://claremore.com/event/storytime-the-library-for-ages-3-5-3/2026-03-18/
LOCATION:Will Rogers Library\, 1515 North Florence\, Claremore\, OK\, 74014\, United States
CATEGORIES:Library
END:VEVENT
BEGIN:VEVENT
DTSTART;TZID=America/Chicago:20260318T100000
DTEND;TZID=America/Chicago:20260318T103000
DTSTAMP:20260419T130002
CREATED:20250822T225110Z
LAST-MODIFIED:20260325T181502Z
UID:10006921-1773828000-1773829800@claremore.com
SUMMARY:Lapsit Storytime @ the Library for ages 0-3
DESCRIPTION:Lapsit Storytime for ages 0-3. Join Miss Nikki at the Library every Wednesday for stories\, wordplay\, and fun!
URL:https://claremore.com/event/lapsit-storytime-the-library-for-ages-0-3/2026-03-18/
LOCATION:Will Rogers Library\, 1515 North Florence\, Claremore\, OK\, 74014\, United States
CATEGORIES:Library
ORGANIZER;CN="Will Rogers Library":MAILTO:wrlibrary@claremorecity.com
END:VEVENT
BEGIN:VEVENT
DTSTART;TZID=UTC:20260317T180000
DTEND;TZID=UTC:20260317T193000
DTSTAMP:20260419T130002
CREATED:20240327T012807Z
LAST-MODIFIED:20250218T063947Z
UID:10003418-1773770400-1773775800@claremore.com
SUMMARY:Green Country Bee Keepers
DESCRIPTION:Learn the art of Beekeeping! Meetings are the 3rd Tuesday of each month. Experienced beekeepers and curious beginners welcome.
URL:https://claremore.com/event/green-country-bee-keepers-2/2026-03-17/
LOCATION:Will Rogers Library\, 1515 North Florence\, Claremore\, OK\, 74014\, United States
CATEGORIES:Library
END:VEVENT
BEGIN:VEVENT
DTSTART;TZID=UTC:20260317T160000
DTEND;TZID=UTC:20260317T170000
DTSTAMP:20260419T130002
CREATED:20251030T192956Z
LAST-MODIFIED:20251030T192956Z
UID:10005355-1773763200-1773766800@claremore.com
SUMMARY:Planning Commission Meeting
DESCRIPTION:Planning Commission meetings are held on the 1st and 3rd Tuesday of each month with the exception of those with a holiday. Agendas are posted and available to view online at least 24 hours before each meeting. Questions about planning commission or their agendas can be directed to (918) 341-2066.
URL:https://claremore.com/event/planning-commission-meeting-4/2026-03-17/
LOCATION:City Hall Council Chambers\, 104 S Muskogee Ave\, Claremore\, OK\, 74017\, United States
CATEGORIES:Planning Commission
END:VEVENT
BEGIN:VEVENT
DTSTART;TZID=UTC:20260317T153000
DTEND;TZID=UTC:20260317T163000
DTSTAMP:20260419T130002
CREATED:20260221T045736Z
LAST-MODIFIED:20260226T031129Z
UID:10005670-1773761400-1773765000@claremore.com
SUMMARY:Spring Crafternoon: ShamROCKin'! All Ages Welcome!
DESCRIPTION:Let’s get ShamROCKin’! Join us for a little Spring Rock Painting. Celebrate St. Patrick’s Day or create any design you like. \nAll ages welcome. Parents must accompany children under 8 years old.
URL:https://claremore.com/event/spring-crafternoon-shamrockin-all-ages-welcome/
LOCATION:Will Rogers Library\, 1515 North Florence\, Claremore\, OK\, 74014\, United States
CATEGORIES:Family Fun,Library
END:VEVENT
BEGIN:VEVENT
DTSTART;TZID=America/Chicago:20260317T130000
DTEND;TZID=America/Chicago:20260317T150000
DTSTAMP:20260419T130002
CREATED:20260215T060513Z
LAST-MODIFIED:20260318T043705Z
UID:10005661-1773752400-1773759600@claremore.com
SUMMARY:Spring Break at the Will Rogers Memorial Museum
DESCRIPTION:Every year during Spring Break\, the team at the Will Rogers Memorial Museum plans a week of activities for the kids to learn about Will Rogers\, Oklahoma history and have tons of fun! \nAll children under 17 are admitted FREE during Spring Break. Registration for the activities is not needed\, just come join the fun! There is even a talent show; registration is online. \nFor a complete schedule of events please visit: Spring Break | Will Rogers
URL:https://claremore.com/event/spring-break-at-the-will-rogers-memorial-museum-3/
LOCATION:Will Rogers Memorial Museum\, 1720 West Will Rogers Boulevard\, Claremore\, OK\, 74017\, United States
ATTACH;FMTTYPE=image/avif:https://claremore.com/wp-content/uploads/2026/02/spring-break-Yh6XMR.avif
ORGANIZER;CN="Will Rogers Museum":MAILTO:wrinfo@willrogers.com
END:VEVENT
BEGIN:VEVENT
DTSTART;TZID=UTC:20260316T180000
DTEND;TZID=UTC:20260316T190000
DTSTAMP:20260419T130002
CREATED:20251009T202956Z
LAST-MODIFIED:20251009T202956Z
UID:10005283-1773684000-1773687600@claremore.com
SUMMARY:City Council Meeting
DESCRIPTION:City Council meetings are held on the first and third Mondays of each month\, unless it falls on a holiday. Agendas are posted at least 24 hours in advance and can be found here.
URL:https://claremore.com/event/city-council-meeting-5/2026-03-16/
LOCATION:City Hall Council Chambers\, 104 S Muskogee Ave\, Claremore\, OK\, 74017\, United States
CATEGORIES:City and Court Clerk,City Council,CityWide
END:VEVENT
BEGIN:VEVENT
DTSTART;TZID=America/Chicago:20260316T130000
DTEND;TZID=America/Chicago:20260316T150000
DTSTAMP:20260419T130002
CREATED:20260214T062041Z
LAST-MODIFIED:20260317T035356Z
UID:10005660-1773666000-1773673200@claremore.com
SUMMARY:Spring Break at the Will Rogers Memorial Museum
DESCRIPTION:Every year during Spring Break\, the team at the Will Rogers Memorial Museum plans a week of activities for the kids to learn about Will Rogers\, Oklahoma history and have tons of fun! \nAll children under 17 are admitted FREE during Spring Break. Registration for the activities is not needed\, just come join the fun! There is even a talent show; registration is online. \nFor a complete schedule of events please visit: Spring Break | Will Rogers
URL:https://claremore.com/event/spring-break-at-the-will-rogers-memorial-museum-2/
LOCATION:Will Rogers Memorial Museum\, 1720 West Will Rogers Boulevard\, Claremore\, OK\, 74017\, United States
ATTACH;FMTTYPE=image/avif:https://claremore.com/wp-content/uploads/2026/02/spring-break-Yh6XMR.avif
ORGANIZER;CN="Will Rogers Museum":MAILTO:wrinfo@willrogers.com
END:VEVENT
BEGIN:VEVENT
DTSTART;TZID=America/Chicago:20260315T080000
DTEND;TZID=America/Chicago:20260315T170000
DTSTAMP:20260419T130002
CREATED:20260213T065015Z
LAST-MODIFIED:20260316T045205Z
UID:10005659-1773561600-1773594000@claremore.com
SUMMARY:SpringFest Hunter Jumper Horse Show
DESCRIPTION:Join us for the 2026 SpringFest Hunter Jumper Horse Show. Stewart Equine Enterprises is bringing The Oklahoma Hunter Jumper Association “O” Rated Show to the Claremore Expo! \n  \nThere will be something for everyone who loves horses. Watch as they compete on ability\, skill\, and form. The horse and rider will exhibit with grace and style as they work through courses with obstacles. Riders of varying skill levels will be competing. \nFor more information\, please contact Beth Zollicoffer at Bzollico@yahoo.com.
URL:https://claremore.com/event/springfest-hunter-jumper-horse-show-9/
LOCATION:Claremore Expo\, 400 Veterans Pkwy\, Claremore\, 74017\, United States
ATTACH;FMTTYPE=image/webp:https://claremore.com/wp-content/uploads/2026/02/SpringFestPic-Hg4vFf.webp
END:VEVENT
BEGIN:VEVENT
DTSTART;TZID=America/Chicago:20260314T110000
DTEND;TZID=America/Chicago:20260314T140000
DTSTAMP:20260419T130002
CREATED:20260212T065009Z
LAST-MODIFIED:20260315T042340Z
UID:10005658-1773486000-1773496800@claremore.com
SUMMARY:Souper Saturday in Downtown Claremore
DESCRIPTION:Souper Saturday is an annual event held in downtown Claremore.   Grab your friends and family and head out to Claremore for this yummy and exciting event in our historic downtown.  Don’t miss your opportunity to enjoy some delicious soup while browsing our local shops. \n  \nFor more information on Souper Saturday or other events downtown\, please visit https://www.facebook.com/LilacDistrictOK \n  \nWhile you are in town for this downtown event\, be sure to check out what else Claremore has to offer!  Visit our Explore Page at https://visitclaremore.com/explore/ for other fun places to see!
URL:https://claremore.com/event/souper-saturday-in-downtown-claremore-3/
LOCATION:Downtown Claremore\, 422 W Will Rogers Blvd\, Claremore\, OK\, 74017\, United States
ATTACH;FMTTYPE=image/jpeg:https://claremore.com/wp-content/uploads/2026/02/souper-sat-dDDVwy.jpe
END:VEVENT
END:VCALENDAR