BEGIN:VCALENDAR
VERSION:2.0
PRODID:-//Claremore - ECPv6.15.20//NONSGML v1.0//EN
CALSCALE:GREGORIAN
METHOD:PUBLISH
X-ORIGINAL-URL:https://claremore.com
X-WR-CALDESC:Events for Claremore
REFRESH-INTERVAL;VALUE=DURATION:PT1H
X-Robots-Tag:noindex
X-PUBLISHED-TTL:PT1H
BEGIN:VTIMEZONE
TZID:America/Chicago
BEGIN:DAYLIGHT
TZOFFSETFROM:-0600
TZOFFSETTO:-0500
TZNAME:CDT
DTSTART:20220313T080000
END:DAYLIGHT
BEGIN:STANDARD
TZOFFSETFROM:-0500
TZOFFSETTO:-0600
TZNAME:CST
DTSTART:20221106T070000
END:STANDARD
BEGIN:DAYLIGHT
TZOFFSETFROM:-0600
TZOFFSETTO:-0500
TZNAME:CDT
DTSTART:20230312T080000
END:DAYLIGHT
BEGIN:STANDARD
TZOFFSETFROM:-0500
TZOFFSETTO:-0600
TZNAME:CST
DTSTART:20231105T070000
END:STANDARD
BEGIN:DAYLIGHT
TZOFFSETFROM:-0600
TZOFFSETTO:-0500
TZNAME:CDT
DTSTART:20240310T080000
END:DAYLIGHT
BEGIN:STANDARD
TZOFFSETFROM:-0500
TZOFFSETTO:-0600
TZNAME:CST
DTSTART:20241103T070000
END:STANDARD
END:VTIMEZONE
BEGIN:VTIMEZONE
TZID:UTC
BEGIN:STANDARD
TZOFFSETFROM:+0000
TZOFFSETTO:+0000
TZNAME:UTC
DTSTART:20220101T000000
END:STANDARD
END:VTIMEZONE
BEGIN:VEVENT
DTSTART;TZID=America/Chicago:20231202T090000
DTEND;TZID=America/Chicago:20231202T170000
DTSTAMP:20260422T102228
CREATED:20231127T223509Z
LAST-MODIFIED:20231203T052256Z
UID:10002561-1701507600-1701536400@claremore.com
SUMMARY:Holiday Craft Fair
DESCRIPTION:Come enjoy the craft show Saturday\, December 2nd from 9:00 AM – 5:00 PM! Concessions will be available for breakfast and lunch.
URL:https://claremore.com/event/holiday-craft-fair/
LOCATION:Claremore American Legion\, 2141 North Hwy 88\, Claremore\, OK\, 74017\, United States
ATTACH;FMTTYPE=image/jpeg:https://claremore.com/wp-content/uploads/2023/11/American-Legion-2BAlBj.tmp_.jpg
END:VEVENT
BEGIN:VEVENT
DTSTART;TZID=America/Chicago:20231202T100000
DTEND;TZID=America/Chicago:20231202T130000
DTSTAMP:20260422T102228
CREATED:20231128T042009Z
LAST-MODIFIED:20231129T213842Z
UID:10002562-1701511200-1701522000@claremore.com
SUMMARY:Pictures With Santa
DESCRIPTION:Bring the kids to Three Twenty On Main for pictures with Santa!
URL:https://claremore.com/event/pictures-with-santa/
LOCATION:Three Twenty On Main\, 320 West Will Rogers Blvd.\, Claremore\, OK\, 74017\, United States
CATEGORIES:Holiday
ATTACH;FMTTYPE=image/jpeg:https://claremore.com/wp-content/uploads/2023/11/Santa-in-the-Sleigh-scaled-6oU7A6.tmp_.jpg
END:VEVENT
BEGIN:VEVENT
DTSTART;TZID=America/Chicago:20231202T110000
DTEND;TZID=America/Chicago:20231202T140000
DTSTAMP:20260422T102228
CREATED:20231109T060524Z
LAST-MODIFIED:20231210T053657Z
UID:10002537-1701514800-1701525600@claremore.com
SUMMARY:Santa Pictures at the Museum
DESCRIPTION:Santa pictures at the Museum will be December 2nd and December 9th.  Stop by the Will Rogers Memorial Museum either day between 11am and 2pm to get that perfect Santa Picture!   \nFor more information on the Will Rogers Memorial or to check out their other events please visit https://www.willrogers.com/eventsandactivities \nLooking for other Holiday happenings in the area?  Check out what Claremore has going on at https://visitclaremore.com/events/
URL:https://claremore.com/event/santa-pictures-at-the-museum-3/
LOCATION:Will Rogers Memorial Museum\, 1720 West Will Rogers Boulevard\, Claremore\, OK\, 74017\, United States
CATEGORIES:Holiday
ATTACH;FMTTYPE=image/jpeg:https://claremore.com/wp-content/uploads/2023/11/Santa-scaled-PO57fi.tmp_.jpg
END:VEVENT
BEGIN:VEVENT
DTSTART;TZID=America/Chicago:20231202T110000
DTEND;TZID=America/Chicago:20231202T140000
DTSTAMP:20260422T102228
CREATED:20231121T040518Z
LAST-MODIFIED:20231127T005540Z
UID:10002546-1701514800-1701525600@claremore.com
SUMMARY:Santa Pictures at the Museum
DESCRIPTION:Santa pictures at the Museum will be December 2nd and December 9th.  Stop by the Will Rogers Memorial Museum either day between 11am and 2pm to get that perfect Santa Picture!   \nFor more information on the Will Rogers Memorial or to check out their other events please visit https://www.willrogers.com/eventsandactivities \nLooking for other Holiday happenings in the area?  Check out what Claremore has going on at https://visitclaremore.com/events/
URL:https://claremore.com/event/santa-pictures-at-the-museum-4/
LOCATION:Will Rogers Memorial Museum\, 1720 West Will Rogers Boulevard\, Claremore\, OK\, 74017\, United States
CATEGORIES:Holiday
ATTACH;FMTTYPE=image/jpeg:https://claremore.com/wp-content/uploads/2023/11/Santa-scaled-PO57fi.tmp_.jpg
END:VEVENT
BEGIN:VEVENT
DTSTART;TZID=UTC:20231204T180000
DTEND;TZID=UTC:20231204T190000
DTSTAMP:20260422T102228
CREATED:20231030T213623Z
LAST-MODIFIED:20231030T213624Z
UID:10002534-1701712800-1701716400@claremore.com
SUMMARY:City Council Meeting
DESCRIPTION:Council meetings are held on the first and third Mondays of the month with exceptions made if holidays fall on that day. You can find the agenda for each meeting online under Agendas and Minutes.
URL:https://claremore.com/event/city-council-meeting-2-3/2023-12-04/
LOCATION:City Hall Council Chambers\, 104 S Muskogee Ave\, Claremore\, OK\, 74017\, United States
CATEGORIES:City and Court Clerk,City Council,CityWide
END:VEVENT
BEGIN:VEVENT
DTSTART;TZID=UTC:20231205T160000
DTEND;TZID=UTC:20231205T170000
DTSTAMP:20260422T102228
CREATED:20230104T022937Z
LAST-MODIFIED:20230104T022937Z
UID:10001420-1701792000-1701795600@claremore.com
SUMMARY:Planning Commission Meeting
DESCRIPTION:
URL:https://claremore.com/event/planning-commission-meeting/2023-12-05/
LOCATION:City Hall Council Chambers\, 104 S Muskogee Ave\, Claremore\, OK\, 74017\, United States
CATEGORIES:Community Development Services,Planning Commission
END:VEVENT
BEGIN:VEVENT
DTSTART;TZID=America/Chicago:20231207T100000
DTEND;TZID=America/Chicago:20231207T200000
DTSTAMP:20260422T102228
CREATED:20231121T040518Z
LAST-MODIFIED:20231127T005540Z
UID:10002547-1701943200-1701979200@claremore.com
SUMMARY:Shepherd Cross’ Christmas at the Farm
DESCRIPTION:This event will take place on December 7th – 9th and December 14th – 16th. Step back in time and journey with the shepherds for a peaceful reflection upon the original Christmas night\, when Christ was born. \nIndoor and Outdoor activities from 10:00 am – 8:00 pm with the Final Manger scene beginning at 7:15. Admission is free and there are many free activities for the whole family to enjoy as well as some special activities that do have a fee. \nFor more information please visit: https://shepherdscross.com/christmas-at-the-farm.html
URL:https://claremore.com/event/shepherd-cross-christmas-at-the-farm/
LOCATION:Shepherd’s Cross\, 16792 East 450 Road\, Claremore\, OK\, 74017\, United States
ATTACH;FMTTYPE=image/jpeg:https://claremore.com/wp-content/uploads/2023/11/nativity-2023-full-manger-EGoAsv.tmp_.jpg
END:VEVENT
BEGIN:VEVENT
DTSTART;TZID=America/Chicago:20231207T100000
DTEND;TZID=America/Chicago:20231207T200000
DTSTAMP:20260422T102228
CREATED:20231127T020528Z
LAST-MODIFIED:20231210T090508Z
UID:10002560-1701943200-1701979200@claremore.com
SUMMARY:Shepherd Cross’ Christmas at the Farm
DESCRIPTION:This event will take place on December 7th – 9th and December 14th – 16th. Step back in time and journey with the shepherds for a peaceful reflection upon the original Christmas night\, when Christ was born. \nIndoor and Outdoor activities from 10:00 am – 8:00 pm with the Final Manger scene beginning at 7:15. Admission is free and there are many free activities for the whole family to enjoy as well as some special activities that do have a fee. \nFor more information please visit: https://shepherdscross.com/christmas-at-the-farm.html
URL:https://claremore.com/event/shepherd-cross-christmas-at-the-farm-7/
LOCATION:Shepherd’s Cross\, 16792 East 450 Road\, Claremore\, OK\, 74017\, United States
ATTACH;FMTTYPE=image/jpeg:https://claremore.com/wp-content/uploads/2023/11/nativity-2023-full-manger-EGoAsv.tmp_.jpg
END:VEVENT
BEGIN:VEVENT
DTSTART;TZID=UTC:20231207T160000
DTEND;TZID=UTC:20231207T170000
DTSTAMP:20260422T102228
CREATED:20230111T233612Z
LAST-MODIFIED:20231030T211128Z
UID:10001493-1701964800-1701968400@claremore.com
SUMMARY:Municipal Court
DESCRIPTION:Municipal Court for the City of Claremore is held on Thursdays at 4 p.m. Your court date is listed at the bottom of your ticket. If you lost your ticket or are unsure of what your court date is\, call the Court Clerk at 918-341-1325 ext. 141.
URL:https://claremore.com/event/municipal-court-2/2023-12-07/
LOCATION:City Hall Council Chambers\, 104 S Muskogee Ave\, Claremore\, OK\, 74017\, United States
CATEGORIES:City and Court Clerk
END:VEVENT
BEGIN:VEVENT
DTSTART;TZID=America/Chicago:20231208T100000
DTEND;TZID=America/Chicago:20231208T200000
DTSTAMP:20260422T102228
CREATED:20231121T040519Z
LAST-MODIFIED:20231127T005542Z
UID:10002548-1702029600-1702065600@claremore.com
SUMMARY:Shepherd Cross’ Christmas at the Farm
DESCRIPTION:This event will take place on December 7th – 9th and December 14th – 16th. Step back in time and journey with the shepherds for a peaceful reflection upon the original Christmas night\, when Christ was born. \nIndoor and Outdoor activities from 10:00 am – 8:00 pm with the Final Manger scene beginning at 7:15. Admission is free and there are many free activities for the whole family to enjoy as well as some special activities that do have a fee. \nFor more information please visit: https://shepherdscross.com/christmas-at-the-farm.html
URL:https://claremore.com/event/shepherd-cross-christmas-at-the-farm-2/
LOCATION:Shepherd’s Cross\, 16792 East 450 Road\, Claremore\, OK\, 74017\, United States
ATTACH;FMTTYPE=image/jpeg:https://claremore.com/wp-content/uploads/2023/11/nativity-2023-full-manger-EGoAsv.tmp_.jpg
END:VEVENT
BEGIN:VEVENT
DTSTART;TZID=America/Chicago:20231208T173000
DTEND;TZID=America/Chicago:20231208T193000
DTSTAMP:20260422T102228
CREATED:20231121T040519Z
LAST-MODIFIED:20231130T020814Z
UID:10002549-1702056600-1702063800@claremore.com
SUMMARY:Santa Returns to Patsy’s
DESCRIPTION:Santa returns to Patsy’s Sno Cones and Party Place on Friday December 8th!  From 5:30 PM until 7:30 Pm bring your kiddos and your cameras and take photos with Santa Claus. Your kiddos can be furry ones as well! Always a good time! No purchase necessary\, but if you want to buy some hot chocolate\, it will be available.
URL:https://claremore.com/event/santa-returns-to-patsys/
LOCATION:Patsy’s Sno Cones and Party Place\, 510 N. Lynn Riggs Blvd\, Claremore\, OK\, 74017\, United States
CATEGORIES:Family Fun,Holiday
ATTACH;FMTTYPE=image/jpeg:https://claremore.com/wp-content/uploads/2023/11/Patsys-syVkOP.tmp_.jpg
END:VEVENT
BEGIN:VEVENT
DTSTART;TZID=America/Chicago:20231209T090000
DTEND;TZID=America/Chicago:20231209T230000
DTSTAMP:20260422T102228
CREATED:20231121T040521Z
LAST-MODIFIED:20231210T053657Z
UID:10002550-1702112400-1702162800@claremore.com
SUMMARY:Breakfast with Santa
DESCRIPTION:Breakfast with Santa will take place on December 9th at Chick-fil-A Claremore!  From 9 AM until 11 AM come visit with Santa Claus and get your season pictures.  There will be crafts and a letter writing station to drop a letter to the North Pole!
URL:https://claremore.com/event/breakfast-with-santa/
LOCATION:OK
ATTACH;FMTTYPE=image/jpeg:https://claremore.com/wp-content/uploads/2023/11/Chick-fil-a-6Owfs7.tmp_.jpg
END:VEVENT
BEGIN:VEVENT
DTSTART;TZID=America/Chicago:20231209T093000
DTEND;TZID=America/Chicago:20231209T113000
DTSTAMP:20260422T102228
CREATED:20231121T040521Z
LAST-MODIFIED:20231210T053657Z
UID:10002551-1702114200-1702121400@claremore.com
SUMMARY:Pancakes in your Pajamas
DESCRIPTION:AnnLee’s Violet Light Project will host Pancakes in your Pajamas on December 9th! This is all you can eat pancake and hot cocoa bar breakfast and will be held inside the Claremore Community Center. Doors open at 9:30 am and pancakes and cocoa will be available until 11:30 am. Guest appearances by Santa Claus and Mr. Grinch so get your tickets early at violetlightproject.net \nTickets are $8 per person ages 1 and up.  Prepurchased tickets will ensure that kids ages 1-13 will receive a craft and cookie decorating with Santa and the Grinch. \n  \nAll proceeds go towards helping support and love NICU families all over the US.
URL:https://claremore.com/event/pancakes-in-your-pajamas/
LOCATION:Claremore Community Center\, 2301 N Sioux Ave\, Claremore\, OK\, 74017\, United States
ATTACH;FMTTYPE=image/jpeg:https://claremore.com/wp-content/uploads/2023/11/Pancakes-in-your-Pajamas-xQOgXN.tmp_.jpg
END:VEVENT
BEGIN:VEVENT
DTSTART;TZID=America/Chicago:20231209T100000
DTEND;TZID=America/Chicago:20231209T200000
DTSTAMP:20260422T102228
CREATED:20231121T040522Z
LAST-MODIFIED:20231127T005542Z
UID:10002552-1702116000-1702152000@claremore.com
SUMMARY:Shepherd Cross’ Christmas at the Farm
DESCRIPTION:This event will take place on December 7th – 9th and December 14th – 16th. Step back in time and journey with the shepherds for a peaceful reflection upon the original Christmas night\, when Christ was born. \nIndoor and Outdoor activities from 10:00 am – 8:00 pm with the Final Manger scene beginning at 7:15. Admission is free and there are many free activities for the whole family to enjoy as well as some special activities that do have a fee. \nFor more information please visit: https://shepherdscross.com/christmas-at-the-farm.html
URL:https://claremore.com/event/shepherd-cross-christmas-at-the-farm-3/
LOCATION:Shepherd’s Cross\, 16792 East 450 Road\, Claremore\, OK\, 74017\, United States
ATTACH;FMTTYPE=image/jpeg:https://claremore.com/wp-content/uploads/2023/11/nativity-2023-full-manger-EGoAsv.tmp_.jpg
END:VEVENT
BEGIN:VEVENT
DTSTART;TZID=America/Chicago:20231209T110000
DTEND;TZID=America/Chicago:20231209T113000
DTSTAMP:20260422T102228
CREATED:20221212T225136Z
LAST-MODIFIED:20231210T053657Z
UID:10001405-1702119600-1702121400@claremore.com
SUMMARY:Shop Local! Santa Cash Give Away
DESCRIPTION:Claremore’s Shop Local campaign by visiting participating stores for your chance too win cash! Visit the Claremore Chamber’s website for all the rules and details!
URL:https://claremore.com/event/shop-local-santa-cash-give-away/
LOCATION:Will Rogers Downs\, 20900 S. 4200 Rd.\, Claremore\, OK\, 74019\, United States
ORGANIZER;CN="Claremore Chamber of Commerce":MAILTO:ashley@claremore.org
END:VEVENT
BEGIN:VEVENT
DTSTART;TZID=America/Chicago:20231209T110000
DTEND;TZID=America/Chicago:20231209T140000
DTSTAMP:20260422T102228
CREATED:20231121T040535Z
LAST-MODIFIED:20231127T005542Z
UID:10002553-1702119600-1702130400@claremore.com
SUMMARY:Santa Pictures at the Museum
DESCRIPTION:Santa pictures at the Museum will be December 2nd and December 9th.  Stop by the Will Rogers Memorial Museum either day between 11am and 2pm to get that perfect Santa Picture!   \nFor more information on the Will Rogers Memorial or to check out their other events please visit https://www.willrogers.com/eventsandactivities \nLooking for other Holiday happenings in the area?  Check out what Claremore has going on at https://visitclaremore.com/events/
URL:https://claremore.com/event/santa-pictures-at-the-museum-5/
LOCATION:Will Rogers Memorial Museum\, 1720 West Will Rogers Boulevard\, Claremore\, OK\, 74017\, United States
CATEGORIES:Holiday
ATTACH;FMTTYPE=image/jpeg:https://claremore.com/wp-content/uploads/2023/11/Santa-scaled-PO57fi.tmp_.jpg
END:VEVENT
BEGIN:VEVENT
DTSTART;TZID=America/Chicago:20231209T120000
DTEND;TZID=America/Chicago:20231209T150000
DTSTAMP:20260422T102228
CREATED:20231121T040535Z
LAST-MODIFIED:20231210T053657Z
UID:10002554-1702123200-1702134000@claremore.com
SUMMARY:Santa Comes to Teatime Bakery
DESCRIPTION:Santa Comes to Teatime Bakery on Saturday December 9th! Bring your kids or grandkids to see Santa. This event is open to the public and no appointment is required. \n  \nTeatime Bakery is located at 119 W. Blue Starr Drive Claremore\, OK 74017 \nA visit with Santa\, a Christmas cookie & hot chocolate for $5.
URL:https://claremore.com/event/santa-comes-to-teatime-bakery/
LOCATION:OK
ATTACH;FMTTYPE=image/jpeg:https://claremore.com/wp-content/uploads/2023/11/Tea-Time-Bakery-bs7NgD.tmp_.jpg
END:VEVENT
BEGIN:VEVENT
DTSTART;TZID=America/Chicago:20231209T180000
DTEND;TZID=America/Chicago:20231209T210000
DTSTAMP:20260422T102228
CREATED:20221103T060557Z
LAST-MODIFIED:20231210T053657Z
UID:10001372-1702144800-1702155600@claremore.com
SUMMARY:All Aboard The Claremore Express!
DESCRIPTION:The Claremore Christmas Parade will be back to the Traditional format! The parade will follow the traditional route\, beginning at the Claremore Expo Center and traveling eastbound on Will Rogers Boulevard to the gazebo at Lynn Riggs Park. Come out\, bring your lawn chair and enjoy the various Marching Bands and floats as they pass by.  Parade Applications can be found at http://business.claremore.org/form/view/23945 \nThe Claremore Christmas Parade is hosted by the Claremore Chamber of Commerce and sponsored by local businesses.  Be sure to grab a bite to eat at one of our local eateries before heading downtown to watch the parade.  For a list of places to eat visit our website https://visitclaremore.com/eat/
URL:https://claremore.com/event/claremore-christmas-parade/
LOCATION:OK
CATEGORIES:Family Fun,Holiday,Outdoors
ATTACH;FMTTYPE=image/jpeg:https://claremore.com/wp-content/uploads/2023/11/Santa-scaled-PO57fi.tmp_.jpg
ORGANIZER;CN="Claremore Chamber of Commerce":MAILTO:ashley@claremore.org
END:VEVENT
BEGIN:VEVENT
DTSTART;TZID=America/Chicago:20231210T173000
DTEND;TZID=America/Chicago:20231210T193000
DTSTAMP:20260422T102228
CREATED:20231121T040536Z
LAST-MODIFIED:20231210T090507Z
UID:10002555-1702229400-1702236600@claremore.com
SUMMARY:Shine the Light
DESCRIPTION:Sunday\, December 10th a candle lighting remembrance event for miscarriage and infant loss will take place at the Will Rogers Memorial Museum from 5:30 pm – 7:30 pm. \nThere will be ornament making\, photos with Santa\, Cookies\, Hot Chocolate Bar and The Candle lighting will be at 7:00 pm. We encourage to reserve your own candle by calling 918-923-2085 or text the word “CANDLE” to 918-475-0500
URL:https://claremore.com/event/shine-the-light/
LOCATION:Will Rogers Memorial Museum\, 1720 West Will Rogers Boulevard\, Claremore\, OK\, 74017\, United States
ATTACH;FMTTYPE=image/jpeg:https://claremore.com/wp-content/uploads/2023/11/Shine-T9DSJM.tmp_.jpg
END:VEVENT
BEGIN:VEVENT
DTSTART;TZID=America/Chicago:20231212T080000
DTEND;TZID=America/Chicago:20231223T170000
DTSTAMP:20260422T102228
CREATED:20231123T063530Z
LAST-MODIFIED:20231210T090507Z
UID:10002559-1702368000-1703350800@claremore.com
SUMMARY:The 12 Days Of Christmas!
DESCRIPTION:Shop local during The 12 Days of Christmas-local merchants and restaurants offering discounts and promotions for 12 full days! \nStarting December 12\, participating local businesses will be offering a daily discount/special buy. As it changes daily\, you can follow the great promotions at Facebook@ Claremore Downtown Shopping District. \n#SHOPLOCAL \n 
URL:https://claremore.com/event/the-12-days-of-christmas/
LOCATION:OK
CATEGORIES:Holiday,Shopping
ATTACH;FMTTYPE=image/jpeg:https://claremore.com/wp-content/uploads/2023/11/2022-Downtown-holidays-BbQU6R.tmp_.jpg
END:VEVENT
BEGIN:VEVENT
DTSTART;TZID=UTC:20231212T183000
DTEND;TZID=UTC:20231212T193000
DTSTAMP:20260422T102228
CREATED:20230104T023800Z
LAST-MODIFIED:20230104T024513Z
UID:10001445-1702405800-1702409400@claremore.com
SUMMARY:Board of Adjustment Meeting
DESCRIPTION:
URL:https://claremore.com/event/board-of-adjustment-meeting-2/2023-12-12/
LOCATION:City Hall Council Chambers\, 104 S Muskogee Ave\, Claremore\, OK\, 74017\, United States
CATEGORIES:Community Development Services,Planning Commission
END:VEVENT
BEGIN:VEVENT
DTSTART;TZID=America/Chicago:20231214T100000
DTEND;TZID=America/Chicago:20231214T200000
DTSTAMP:20260422T102228
CREATED:20231121T040537Z
LAST-MODIFIED:20231127T005543Z
UID:10002556-1702548000-1702584000@claremore.com
SUMMARY:Shepherd Cross’ Christmas at the Farm
DESCRIPTION:This event will take place on December 7th – 9th and December 14th – 16th. Step back in time and journey with the shepherds for a peaceful reflection upon the original Christmas night\, when Christ was born. \nIndoor and Outdoor activities from 10:00 am – 8:00 pm with the Final Manger scene beginning at 7:15. Admission is free and there are many free activities for the whole family to enjoy as well as some special activities that do have a fee. \nFor more information please visit: https://shepherdscross.com/christmas-at-the-farm.html
URL:https://claremore.com/event/shepherd-cross-christmas-at-the-farm-4/
LOCATION:Shepherd’s Cross\, 16792 East 450 Road\, Claremore\, OK\, 74017\, United States
ATTACH;FMTTYPE=image/jpeg:https://claremore.com/wp-content/uploads/2023/11/nativity-2023-full-manger-EGoAsv.tmp_.jpg
END:VEVENT
BEGIN:VEVENT
DTSTART;TZID=UTC:20231214T160000
DTEND;TZID=UTC:20231214T170000
DTSTAMP:20260422T102228
CREATED:20230111T233612Z
LAST-MODIFIED:20231030T211128Z
UID:10001494-1702569600-1702573200@claremore.com
SUMMARY:Municipal Court
DESCRIPTION:Municipal Court for the City of Claremore is held on Thursdays at 4 p.m. Your court date is listed at the bottom of your ticket. If you lost your ticket or are unsure of what your court date is\, call the Court Clerk at 918-341-1325 ext. 141.
URL:https://claremore.com/event/municipal-court-2/2023-12-14/
LOCATION:City Hall Council Chambers\, 104 S Muskogee Ave\, Claremore\, OK\, 74017\, United States
CATEGORIES:City and Court Clerk
END:VEVENT
BEGIN:VEVENT
DTSTART;TZID=America/Chicago:20231215T100000
DTEND;TZID=America/Chicago:20231215T200000
DTSTAMP:20260422T102228
CREATED:20231121T040537Z
LAST-MODIFIED:20231127T005543Z
UID:10002557-1702634400-1702670400@claremore.com
SUMMARY:Shepherd Cross’ Christmas at the Farm
DESCRIPTION:This event will take place on December 7th – 9th and December 14th – 16th. Step back in time and journey with the shepherds for a peaceful reflection upon the original Christmas night\, when Christ was born. \nIndoor and Outdoor activities from 10:00 am – 8:00 pm with the Final Manger scene beginning at 7:15. Admission is free and there are many free activities for the whole family to enjoy as well as some special activities that do have a fee. \nFor more information please visit: https://shepherdscross.com/christmas-at-the-farm.html
URL:https://claremore.com/event/shepherd-cross-christmas-at-the-farm-5/
LOCATION:Shepherd’s Cross\, 16792 East 450 Road\, Claremore\, OK\, 74017\, United States
ATTACH;FMTTYPE=image/jpeg:https://claremore.com/wp-content/uploads/2023/11/nativity-2023-full-manger-EGoAsv.tmp_.jpg
END:VEVENT
BEGIN:VEVENT
DTSTART;TZID=America/Chicago:20231215T190000
DTEND;TZID=America/Chicago:20231215T190000
DTSTAMP:20260422T102228
CREATED:20231129T012035Z
LAST-MODIFIED:20231210T090508Z
UID:10002684-1702666800-1702666800@claremore.com
SUMMARY:Frozen
DESCRIPTION:Come enjoy Disney’s Frozen JR. at the Robson Performing Arts Center! December 15th @ 7pm\, December 16th @7PM and December 17th @ 2PM. $10 for Adults and $5 for students. For more information on tickets please contact 918-923-4290 \n  \n\n\n\n \n2 pm show on Sunday is a fund raiser for Toys for Tots. Each person that brings a quality new unwrapped toy will get in free!
URL:https://claremore.com/event/frozen/
LOCATION:Robson Performing Arts Center\, 101 E Stuart Roosa\, Claremore\, OK\, 74017
ATTACH;FMTTYPE=image/jpeg:https://claremore.com/wp-content/uploads/2023/11/frozenperformanceposter2-FcgJAP.tmp_.jpg
END:VEVENT
BEGIN:VEVENT
DTSTART;TZID=America/Chicago:20231216T100000
DTEND;TZID=America/Chicago:20231216T200000
DTSTAMP:20260422T102228
CREATED:20231121T040537Z
LAST-MODIFIED:20231127T005543Z
UID:10002558-1702720800-1702756800@claremore.com
SUMMARY:Shepherd Cross’ Christmas at the Farm
DESCRIPTION:This event will take place on December 7th – 9th and December 14th – 16th. Step back in time and journey with the shepherds for a peaceful reflection upon the original Christmas night\, when Christ was born. \nIndoor and Outdoor activities from 10:00 am – 8:00 pm with the Final Manger scene beginning at 7:15. Admission is free and there are many free activities for the whole family to enjoy as well as some special activities that do have a fee. \nFor more information please visit: https://shepherdscross.com/christmas-at-the-farm.html
URL:https://claremore.com/event/shepherd-cross-christmas-at-the-farm-6/
LOCATION:Shepherd’s Cross\, 16792 East 450 Road\, Claremore\, OK\, 74017\, United States
ATTACH;FMTTYPE=image/jpeg:https://claremore.com/wp-content/uploads/2023/11/nativity-2023-full-manger-EGoAsv.tmp_.jpg
END:VEVENT
BEGIN:VEVENT
DTSTART;TZID=America/Chicago:20231216T170000
DTEND;TZID=America/Chicago:20231216T210000
DTSTAMP:20260422T102228
CREATED:20231116T063506Z
LAST-MODIFIED:20231210T090508Z
UID:10002538-1702746000-1702760400@claremore.com
SUMMARY:Candlelight & Carols Home Tour at the MOH!
DESCRIPTION:The Claremore Museum of History is hosting their inaugural Christmas Home Tour! Tickets are $20 and include 4 homes to tour\, bites and beverages! Tickets can be purchased at the Claremore MOH! \n 
URL:https://claremore.com/event/candlelight-carols-home-tour-at-the-moh/
LOCATION:Claremore Museum of History\, 121 N Weenonah Ave\, Claremore\, OK\, 74017\, United States
CATEGORIES:Holiday
ATTACH;FMTTYPE=image/jpeg:https://claremore.com/wp-content/uploads/2023/11/christmas-at-the-belvidere-mansion-m93Qad.tmp_.jpg
END:VEVENT
BEGIN:VEVENT
DTSTART;TZID=America/Chicago:20231218T113000
DTEND;TZID=America/Chicago:20231218T133000
DTSTAMP:20260422T102228
CREATED:20231217T092020Z
LAST-MODIFIED:20231219T050549Z
UID:10002743-1702899000-1702906200@claremore.com
SUMMARY:Earl Clark Senior Luncheon
DESCRIPTION:The Claremore Elks Lodge would like to invite you to the Earl Clark Senior Luncheon on December 18th @ 11:30 am! \n  \n \n  \nLocated at The Elks Lodge 1820 Summit Drive Claremore\, OK 74017
URL:https://claremore.com/event/earl-clark-senior-luncheon/
LOCATION:Elks Lodge\, 1820 Summit Drive\, Claremore\, OK\, 74017
END:VEVENT
BEGIN:VEVENT
DTSTART;TZID=UTC:20231218T180000
DTEND;TZID=UTC:20231218T190000
DTSTAMP:20260422T102228
CREATED:20230317T020031Z
LAST-MODIFIED:20230510T204849Z
UID:10001401-1702922400-1702926000@claremore.com
SUMMARY:City Council Meeting
DESCRIPTION:Council meetings are held on the first and third Mondays of the month with exceptions made if holidays fall on that day. You can find the agenda for each meeting online under Agendas and Minutes.
URL:https://claremore.com/event/city-council-meeting-2-2/2023-12-18/
LOCATION:City Hall Council Chambers\, 104 S Muskogee Ave\, Claremore\, OK\, 74017\, United States
CATEGORIES:City and Court Clerk,City Council,CityWide
END:VEVENT
BEGIN:VEVENT
DTSTART;TZID=UTC:20231221T160000
DTEND;TZID=UTC:20231221T170000
DTSTAMP:20260422T102228
CREATED:20230111T233612Z
LAST-MODIFIED:20231030T211128Z
UID:10001495-1703174400-1703178000@claremore.com
SUMMARY:Municipal Court
DESCRIPTION:Municipal Court for the City of Claremore is held on Thursdays at 4 p.m. Your court date is listed at the bottom of your ticket. If you lost your ticket or are unsure of what your court date is\, call the Court Clerk at 918-341-1325 ext. 141.
URL:https://claremore.com/event/municipal-court-2/2023-12-21/
LOCATION:City Hall Council Chambers\, 104 S Muskogee Ave\, Claremore\, OK\, 74017\, United States
CATEGORIES:City and Court Clerk
END:VEVENT
END:VCALENDAR